BEGIN:VCALENDAR
VERSION:2.0
PRODID:-//Essential Wellness Society - ECPv6.15.20//NONSGML v1.0//EN
CALSCALE:GREGORIAN
METHOD:PUBLISH
X-ORIGINAL-URL:https://www.essentialwellnesssociety.com
X-WR-CALDESC:Events for Essential Wellness Society
REFRESH-INTERVAL;VALUE=DURATION:PT1H
X-Robots-Tag:noindex
X-PUBLISHED-TTL:PT1H
BEGIN:VTIMEZONE
TZID:America/Denver
BEGIN:DAYLIGHT
TZOFFSETFROM:-0700
TZOFFSETTO:-0600
TZNAME:MDT
DTSTART:20250309T090000
END:DAYLIGHT
BEGIN:STANDARD
TZOFFSETFROM:-0600
TZOFFSETTO:-0700
TZNAME:MST
DTSTART:20251102T080000
END:STANDARD
BEGIN:DAYLIGHT
TZOFFSETFROM:-0700
TZOFFSETTO:-0600
TZNAME:MDT
DTSTART:20260308T090000
END:DAYLIGHT
BEGIN:STANDARD
TZOFFSETFROM:-0600
TZOFFSETTO:-0700
TZNAME:MST
DTSTART:20261101T080000
END:STANDARD
BEGIN:DAYLIGHT
TZOFFSETFROM:-0700
TZOFFSETTO:-0600
TZNAME:MDT
DTSTART:20270314T090000
END:DAYLIGHT
BEGIN:STANDARD
TZOFFSETFROM:-0600
TZOFFSETTO:-0700
TZNAME:MST
DTSTART:20271107T080000
END:STANDARD
END:VTIMEZONE
BEGIN:VEVENT
DTSTART;TZID=America/Denver:20260508T194500
DTEND;TZID=America/Denver:20260508T211500
DTSTAMP:20260421T105952
CREATED:20260306T202732Z
LAST-MODIFIED:20260411T133939Z
UID:256449-1778269500-1778274900@www.essentialwellnesssociety.com
SUMMARY:Cave of the Winds Sound Bath
DESCRIPTION:Step into the vast\, echoing chambers of Cave of the Winds and experience a powerful meeting of nature and sound. \nDeep beneath the surface\, surrounded by ancient rock formations shaped over millions of years\, the steady resonance of Tibetan and crystal singing bowls\, gongs\, Native American flutes\, hand pan\, and layered instrumentation fills the cavern. The natural acoustics of the cave amplify every tone\, creating a grounded\, immersive experience that encourages stillness and a clear reset. \nGuided by —Gigi Turner PsyD\, Steve Manzo\, and Grammy-nominated flutist Sherry Finzer—you’ll be immersed in rich\, resonant frequencies that flow through the natural acoustics of the cave\, inviting deep relaxation\, clarity\, and emotional release. \nFor generations\, Cave of the Winds has been regarded as a place of powerful energy. The Apache and Ute peoples believed the Great Spirit of the Wind lived within these walls. Through sound\, you’re invited to experience this extraordinary setting in a deeply intentional way. \nJoin us for this one-of-a-kind sound bath and experience the resonance of sound\, held within stone. \nMeet the Musicians\n\n\nSherry Finzer believes that music can be used as a tool to create healing. Fueled by stories shared by listeners and fans of how her music helps them deal with stress\, depression\, grief and physical ailments such as tinnitus\, stroke\, and cancer\, she records\, performs\, composes\, and runs the Heart Dance Records label. \nSherry specializes in the low flutes – alto\, bass\, and contrabass\, as well as Native flutes. Her music is used by yoga teachers such as Dr. Chelsea Roberts on Peloton\, massage therapists\, doctors\, and is frequently heard on the SXM Spa Channel\, US & International Airlines and global radio programs. She connects with listeners around the world during her weekly live streams on the Insight Timer app. \nShe has won several awards for her music\, and has recorded over 40 albums and EPs. \nSHERRYFINZER.COM  \nLINKTR.EE/SHERRYFINZER \n\n\nDr. Gigi Turner PsyD\, founder and owner of Singing Bowls of the Rockies\, has created Colorado Springs’ premier sound bath sanctuary. Formerly a psychology professor and psychotherapist\, she combines her deep understanding of the mind with the healing power of sound. With over a decade of experience and an extensive collection of more than 100 singing bowls\, Gigi has guided thousands of participants through immersive and restorative sound journeys. Her expertise lies in crafting deeply soothing experiences that calm the nervous system\, promote profound relaxation\, and inspire inner healing. \n\n\nSteve Manzo is a multi-instrumentalist with a passion for sound and its healing potential. Influenced by his own experiences with sound baths\, Steve brings a unique musical perspective to each session\, offering layers of meditative frequencies. Currently studying film and game scoring\, his expertise in composition and music production allows him to craft immersive auditory landscapes. When he’s not accompanying Singing Bowls of the Rockies\, Steve connects with the local music scene\, works on personal projects\, and finds inspiration in the sounds of nature. \n\n\nSpecial Offer:\nA complimentary 1-hour integration session is available post-event to reflect on any emotions or experiences that arise during the sound bath.
URL:https://www.essentialwellnesssociety.com/event/cave-of-the-winds-sound-bath-feat-grammy-nominated-flutist-sherry-finzer/
LOCATION:Singing Bowls of the Rockies\, 76 S Sierra Madre\, Suite C\, Colorado Springs\, 80903
CATEGORIES:Events
ATTACH;FMTTYPE=image/png:https://www.essentialwellnesssociety.com/wp-content/uploads/2026/03/Sherry-Finzer-Cave-of-the-Winds-Wide-4.png
ORGANIZER;CN="Gigi Turner PsyD":MAILTO:contact@singingbowlsoftherockies.com
GEO:38.8330803;-104.8291823
X-APPLE-STRUCTURED-LOCATION;VALUE=URI;X-ADDRESS=Singing Bowls of the Rockies 76 S Sierra Madre Suite C Colorado Springs 80903;X-APPLE-RADIUS=500;X-TITLE=76 S Sierra Madre\, Suite C:geo:-104.8291823,38.8330803
END:VEVENT
END:VCALENDAR