BEGIN:VCALENDAR
VERSION:2.0
PRODID:-//Essential Wellness Society - ECPv6.15.20//NONSGML v1.0//EN
CALSCALE:GREGORIAN
METHOD:PUBLISH
X-ORIGINAL-URL:https://www.essentialwellnesssociety.com
X-WR-CALDESC:Events for Essential Wellness Society
REFRESH-INTERVAL;VALUE=DURATION:PT1H
X-Robots-Tag:noindex
X-PUBLISHED-TTL:PT1H
BEGIN:VTIMEZONE
TZID:America/Denver
BEGIN:DAYLIGHT
TZOFFSETFROM:-0700
TZOFFSETTO:-0600
TZNAME:MDT
DTSTART:20250309T090000
END:DAYLIGHT
BEGIN:STANDARD
TZOFFSETFROM:-0600
TZOFFSETTO:-0700
TZNAME:MST
DTSTART:20251102T080000
END:STANDARD
BEGIN:DAYLIGHT
TZOFFSETFROM:-0700
TZOFFSETTO:-0600
TZNAME:MDT
DTSTART:20260308T090000
END:DAYLIGHT
BEGIN:STANDARD
TZOFFSETFROM:-0600
TZOFFSETTO:-0700
TZNAME:MST
DTSTART:20261101T080000
END:STANDARD
BEGIN:DAYLIGHT
TZOFFSETFROM:-0700
TZOFFSETTO:-0600
TZNAME:MDT
DTSTART:20270314T090000
END:DAYLIGHT
BEGIN:STANDARD
TZOFFSETFROM:-0600
TZOFFSETTO:-0700
TZNAME:MST
DTSTART:20271107T080000
END:STANDARD
END:VTIMEZONE
BEGIN:VEVENT
DTSTART;TZID=America/Denver:20260312T180000
DTEND;TZID=America/Denver:20260312T193000
DTSTAMP:20260425T075251
CREATED:20260222T140701Z
LAST-MODIFIED:20260223T100535Z
UID:256369-1773338400-1773343800@www.essentialwellnesssociety.com
SUMMARY:Vagus Nerve Activation Sound Bath – Reconnect with Inner Peace
DESCRIPTION:Join us for a Vagus Nerve Activation Sound Bath\, specifically designed to restore balance to your nervous system through the healing tones of crystal and Tibetan singing bowls\, along with other powerful instruments. The vagus nerve plays a vital role in the parasympathetic nervous system\, responsible for promoting relaxation\, digestion\, and a sense of calm. When overstimulated\, the sympathetic nervous system takes over\, leading to stress\, anxiety\, digestive issues\, insomnia\, and other physical and emotional challenges. \nIn this immersive sound bath\, we’ll focus on toning and stimulating the two vagus nerves by surrounding participants with low-frequency crystal and Tibetan bowls. These carefully calibrated vibrations help to strengthen and activate the vagus nerve\, encouraging a shift from Sympathetic Dominance—associated with chronic stress\, worry\, and fatigue—to Parasympathetic Activation\, the state of deep relaxation\, healing\, and regeneration. \nAs we create a harmonious soundscape\, the vibrations will release energetic blockages\, rebalance your autonomic nervous system\, and restore your body’s natural rhythm. Combined with guided breathwork\, this experience will help you feel centered\, clear-headed\, and recharged. By the end of the session\, you’ll leave with a deep sense of inner calm and a renewed connection to your body’s innate ability to heal and restore balance.
URL:https://www.essentialwellnesssociety.com/event/vagus-nerve-activation-sound-bath-reconnect-with-inner-peace-2/
LOCATION:Singing Bowls of the Rockies\, 76 S Sierra Madre\, Suite C\, Colorado Springs\, 80903
CATEGORIES:Events
ATTACH;FMTTYPE=image/png:https://www.essentialwellnesssociety.com/wp-content/uploads/2026/02/Vagus-Nerve-Activation-Sound-Bath-–-Reconnect-with-Inner-Peace-2.png
ORGANIZER;CN="Gigi Turner PsyD":MAILTO:contact@singingbowlsoftherockies.com
GEO:38.8330803;-104.8291823
X-APPLE-STRUCTURED-LOCATION;VALUE=URI;X-ADDRESS=Singing Bowls of the Rockies 76 S Sierra Madre Suite C Colorado Springs 80903;X-APPLE-RADIUS=500;X-TITLE=76 S Sierra Madre\, Suite C:geo:-104.8291823,38.8330803
END:VEVENT
END:VCALENDAR