BEGIN:VCALENDAR
VERSION:2.0
PRODID:-//Essential Wellness Society - ECPv6.15.20//NONSGML v1.0//EN
CALSCALE:GREGORIAN
METHOD:PUBLISH
X-ORIGINAL-URL:https://www.essentialwellnesssociety.com
X-WR-CALDESC:Events for Essential Wellness Society
REFRESH-INTERVAL;VALUE=DURATION:PT1H
X-Robots-Tag:noindex
X-PUBLISHED-TTL:PT1H
BEGIN:VTIMEZONE
TZID:America/Denver
BEGIN:DAYLIGHT
TZOFFSETFROM:-0700
TZOFFSETTO:-0600
TZNAME:MDT
DTSTART:20250309T090000
END:DAYLIGHT
BEGIN:STANDARD
TZOFFSETFROM:-0600
TZOFFSETTO:-0700
TZNAME:MST
DTSTART:20251102T080000
END:STANDARD
BEGIN:DAYLIGHT
TZOFFSETFROM:-0700
TZOFFSETTO:-0600
TZNAME:MDT
DTSTART:20260308T090000
END:DAYLIGHT
BEGIN:STANDARD
TZOFFSETFROM:-0600
TZOFFSETTO:-0700
TZNAME:MST
DTSTART:20261101T080000
END:STANDARD
BEGIN:DAYLIGHT
TZOFFSETFROM:-0700
TZOFFSETTO:-0600
TZNAME:MDT
DTSTART:20270314T090000
END:DAYLIGHT
BEGIN:STANDARD
TZOFFSETFROM:-0600
TZOFFSETTO:-0700
TZNAME:MST
DTSTART:20271107T080000
END:STANDARD
END:VTIMEZONE
BEGIN:VEVENT
DTSTART;TZID=America/Denver:20260329T150000
DTEND;TZID=America/Denver:20260329T163000
DTSTAMP:20260420T072948
CREATED:20260222T142737Z
LAST-MODIFIED:20260223T100616Z
UID:256404-1774796400-1774801800@www.essentialwellnesssociety.com
SUMMARY:Self-Care Sunday Sound Bath: A Path to Wellness and Peace
DESCRIPTION:In the whirlwind of daily life\, it’s easy to forget the fundamental need for self-care. Yet\, dedicating time to nurture ourselves is crucial for maintaining balance\, health\, and inner peace. This event is crafted to offer you a sanctuary from the stresses of everyday life\, providing an oasis where you can focus solely on self-renewal. Set in a serene\, inviting space\, our sound bath promises an afternoon of profound relaxation and introspection.  \nThe Importance of Self-Care: \nSelf-care is not just an indulgence—it’s essential for promoting resilience\, reducing anxiety\, and enhancing our capacity to navigate life’s challenges. It’s about honoring our wellbeing by taking the time to listen and respond to our needs\, both physical and emotional. By committing to self-care practices like sound baths\, we open the door to greater self-compassion\, heightened awareness\, and an overall sense of wellbeing. \nHow Sound Baths Facilitate Self-Care: \nSound baths are a powerful tool in the journey of self-care. Through the therapeutic use of sound vibrations\, participants are enveloped in a cocoon of healing frequencies that can lead to deep states of meditation and relaxation. These vibrations work at a cellular level to: \n\n\nReduce Stress and Anxiety: The soothing sounds help calm the mind\, easing stress and anxiety\, and promoting a state of peacefulness and mental clarity. \n\n\nEnhance Emotional Balance: The immersive experience can facilitate emotional release and healing\, fostering a sense of harmony and balance. \n\n\nImprove Sleep Quality: By relaxing the nervous system\, sound baths can improve sleep patterns\, helping you feel more rested and rejuvenated. \n\n\nIncrease Self-Awareness: The introspective nature of the experience encourages a deeper connection with oneself\, enhancing mindfulness and self-awareness. \n\n\nReserve your spot for an afternoon where your well-being takes center stage. Let’s embark on this sonic journey together\, fostering a community dedicated to the practice of self-care and the pursuit of inner peace.
URL:https://www.essentialwellnesssociety.com/event/self-care-sunday-sound-bath-a-path-to-wellness-and-peace-2/
LOCATION:Singing Bowls of the Rockies\, 76 S Sierra Madre\, Suite C\, Colorado Springs\, 80903
CATEGORIES:Events
ATTACH;FMTTYPE=image/jpeg:https://www.essentialwellnesssociety.com/wp-content/uploads/2026/02/Self-Care-Sunday-Sound-Bath-A-Path-to-Wellness-and-Peace1.jpg
ORGANIZER;CN="Gigi Turner PsyD":MAILTO:contact@singingbowlsoftherockies.com
GEO:38.8330803;-104.8291823
X-APPLE-STRUCTURED-LOCATION;VALUE=URI;X-ADDRESS=Singing Bowls of the Rockies 76 S Sierra Madre Suite C Colorado Springs 80903;X-APPLE-RADIUS=500;X-TITLE=76 S Sierra Madre\, Suite C:geo:-104.8291823,38.8330803
END:VEVENT
BEGIN:VEVENT
DTSTART;TZID=America/Denver:20260331T180000
DTEND;TZID=America/Denver:20260331T193000
DTSTAMP:20260420T072948
CREATED:20260222T143031Z
LAST-MODIFIED:20260223T100511Z
UID:256409-1774980000-1774985400@www.essentialwellnesssociety.com
SUMMARY:A Sound Bath to Unwind: Releasing Stress from Body & Mind
DESCRIPTION:This sound bath is a space to unwind in the truest sense of the word. To let the weight you’ve been carrying ease\, even if only for a little while. As you rest\, layers of sound from singing bowls and other resonant instruments move through the room in gentle waves\, surrounding the body and inviting it toward stillness. \nThe experience often feels quiet and expansive\, like floating in a wide\, star-filled space. Thoughts begin to thin out. Breath deepens on its own. Tension softens without effort. The sounds don’t ask for focus or understanding — they simply pass through\, creating room for the nervous system to settle and the body to rest. \nThere is nothing to achieve here. No technique to follow. You are free to drift\, to listen\, or to do nothing at all. Some people experience deep relaxation\, others a subtle emotional release\, others simply the relief of not needing to hold themselves together for a moment. \nThis is an invitation to lie back\, to be held by sound\, and to let the mind and body remember what it feels like to unwind.
URL:https://www.essentialwellnesssociety.com/event/a-sound-bath-to-unwind-releasing-stress-from-body-mind-3/
LOCATION:Singing Bowls of the Rockies\, 76 S Sierra Madre\, Suite C\, Colorado Springs\, 80903
CATEGORIES:Events
ATTACH;FMTTYPE=image/jpeg:https://www.essentialwellnesssociety.com/wp-content/uploads/2026/02/A-Sound-Bath-to-Unwind-Releasing-Stress-from-Body-Mind-12.jpg
ORGANIZER;CN="Gigi Turner PsyD":MAILTO:contact@singingbowlsoftherockies.com
GEO:38.8330803;-104.8291823
X-APPLE-STRUCTURED-LOCATION;VALUE=URI;X-ADDRESS=Singing Bowls of the Rockies 76 S Sierra Madre Suite C Colorado Springs 80903;X-APPLE-RADIUS=500;X-TITLE=76 S Sierra Madre\, Suite C:geo:-104.8291823,38.8330803
END:VEVENT
BEGIN:VEVENT
DTSTART;TZID=America/Denver:20260402T190000
DTEND;TZID=America/Denver:20260402T203000
DTSTAMP:20260420T072948
CREATED:20260322T105509Z
LAST-MODIFIED:20260322T105509Z
UID:256470-1775156400-1775161800@www.essentialwellnesssociety.com
SUMMARY:Full Moon Sound Bath: Release & Relax
DESCRIPTION:Step into the gentle glow of the Pink Full Moon and settle into a deeply restorative sound bath within our tranquil studio. This full moon\, named for the soft pink wildflowers that bloom in early spring\, carries the energy of renewal\, growth\, and fresh beginnings—a beautiful moment to release what feels heavy and welcome new life into your intentions. \nThe Pink Moon arrives as nature awakens\, reminding us that cycles of change are always unfolding. It invites reflection\, emotional clearing\, and a return to balance as we step further into the light of the season. \nGuided by the resonant tones of crystal singing bowls\, Tibetan bowls\, gongs\, chimes\, flutes\, handpans\, and other sacred instruments\, you’ll be immersed in waves of sound that soothe the nervous system\, quiet the mind\, and gently reconnect you with a sense of calm\, openness\, and renewal.
URL:https://www.essentialwellnesssociety.com/event/full-moon-sound-bath-release-relax/
LOCATION:Singing Bowls of the Rockies\, 76 S Sierra Madre\, Suite C\, Colorado Springs\, 80903
CATEGORIES:Events
ATTACH;FMTTYPE=image/jpeg:https://www.essentialwellnesssociety.com/wp-content/uploads/2026/03/Full-Moon-powered-by-a-Full-Sound-Bath1.jpg
ORGANIZER;CN="Gigi Turner PsyD":MAILTO:contact@singingbowlsoftherockies.com
GEO:38.8330803;-104.8291823
X-APPLE-STRUCTURED-LOCATION;VALUE=URI;X-ADDRESS=Singing Bowls of the Rockies 76 S Sierra Madre Suite C Colorado Springs 80903;X-APPLE-RADIUS=500;X-TITLE=76 S Sierra Madre\, Suite C:geo:-104.8291823,38.8330803
END:VEVENT
BEGIN:VEVENT
DTSTART;TZID=America/Denver:20260404T160000
DTEND;TZID=America/Denver:20260404T173000
DTSTAMP:20260420T072948
CREATED:20260322T110352Z
LAST-MODIFIED:20260322T110352Z
UID:256472-1775318400-1775323800@www.essentialwellnesssociety.com
SUMMARY:4/4 Manifestation Sound Bath
DESCRIPTION:The 4/4 portal carries a special energetic symbolism. In numerology\, the number 4 represents stability\, foundation\, and the building blocks of what we wish to create. When this number repeats\, it’s often seen as a powerful moment to focus on intention\, clarity\, and manifestation. \nThis evening is designed as a gentle yet powerful space to connect with what you’re ready to invite into your life. Through meditation\, reflection\, and the immersive resonance of sound\, you’ll be guided into a state where the mind softens\, the nervous system settles\, and intention becomes clearer. \nAs waves of sound move through the space—crystal singing bowls\, Tibetan bowls\, gongs\, chimes\, flutes\, handpans\, and other sacred instruments—you’ll be immersed in frequencies that encourage deep relaxation and inner alignment. In this calm and open state\, many people find it easier to reconnect with their intuition and focus their intentions with clarity. \nWhether you are calling in new opportunities\, greater balance\, or simply a deeper sense of peace\, this 4/4 sound bath offers a beautiful moment to pause\, reset\, and consciously align with the life you are creating.
URL:https://www.essentialwellnesssociety.com/event/4-4-manifestation-sound-bath/
LOCATION:Singing Bowls of the Rockies\, 76 S Sierra Madre\, Suite C\, Colorado Springs\, 80903
CATEGORIES:Events
ATTACH;FMTTYPE=image/jpeg:https://www.essentialwellnesssociety.com/wp-content/uploads/2026/03/4-4-Manifestation-Sound-Bath-1.jpg
ORGANIZER;CN="Gigi Turner PsyD":MAILTO:contact@singingbowlsoftherockies.com
GEO:38.8330803;-104.8291823
X-APPLE-STRUCTURED-LOCATION;VALUE=URI;X-ADDRESS=Singing Bowls of the Rockies 76 S Sierra Madre Suite C Colorado Springs 80903;X-APPLE-RADIUS=500;X-TITLE=76 S Sierra Madre\, Suite C:geo:-104.8291823,38.8330803
END:VEVENT
END:VCALENDAR