BEGIN:VCALENDAR
VERSION:2.0
PRODID:-//Essential Wellness Society - ECPv6.15.20//NONSGML v1.0//EN
CALSCALE:GREGORIAN
METHOD:PUBLISH
X-ORIGINAL-URL:https://www.essentialwellnesssociety.com
X-WR-CALDESC:Events for Essential Wellness Society
REFRESH-INTERVAL;VALUE=DURATION:PT1H
X-Robots-Tag:noindex
X-PUBLISHED-TTL:PT1H
BEGIN:VTIMEZONE
TZID:America/Denver
BEGIN:DAYLIGHT
TZOFFSETFROM:-0700
TZOFFSETTO:-0600
TZNAME:MDT
DTSTART:20250309T090000
END:DAYLIGHT
BEGIN:STANDARD
TZOFFSETFROM:-0600
TZOFFSETTO:-0700
TZNAME:MST
DTSTART:20251102T080000
END:STANDARD
BEGIN:DAYLIGHT
TZOFFSETFROM:-0700
TZOFFSETTO:-0600
TZNAME:MDT
DTSTART:20260308T090000
END:DAYLIGHT
BEGIN:STANDARD
TZOFFSETFROM:-0600
TZOFFSETTO:-0700
TZNAME:MST
DTSTART:20261101T080000
END:STANDARD
BEGIN:DAYLIGHT
TZOFFSETFROM:-0700
TZOFFSETTO:-0600
TZNAME:MDT
DTSTART:20270314T090000
END:DAYLIGHT
BEGIN:STANDARD
TZOFFSETFROM:-0600
TZOFFSETTO:-0700
TZNAME:MST
DTSTART:20271107T080000
END:STANDARD
END:VTIMEZONE
BEGIN:VEVENT
DTSTART;TZID=America/Denver:20260208T153000
DTEND;TZID=America/Denver:20260208T180000
DTSTAMP:20260421T150745
CREATED:20260122T113629Z
LAST-MODIFIED:20260122T113629Z
UID:256266-1770564600-1770573600@www.essentialwellnesssociety.com
SUMMARY:Ecstatic Dance & Sound Bath: Embodied Release & Deep Rest
DESCRIPTION:This experience brings together two distinct but complementary practices: a guided Ecstatic Dance followed by a restorative Sound Bath. You’re welcome to join us for the dance\, the sound bath\, or both! \nWe begin with an Ecstatic Dance journey led by Seraphina Rae King of SolRise Collective\, inviting you to reconnect with the body as a source of wisdom\, expression\, and healing. Through guided movement\, the body becomes a pathway to gently surface and release emotional weight that may have been held beneath the surface. \nOur bodies hold the wisdom and healing we are seeking\, and movement is one of our greatest medicines. In this workshop\, we explore the healing codes that live within us\, allowing emotion to move through the physical body so it can be felt\, expressed\, and released. Through conscious\, intuitive movement\, we create space for what no longer serves to fall away\, making room for deeper truth\, clarity\, and self-connection. Because the physical body is our densest layer\, healing that moves through the body allows internal shifts to fully integrate. \nThis experience invites non-linear\, exploratory movement—free from choreography or expectation—so that stored emotions\, sensations\, and stories can surface and move. Together\, we cultivate presence and embodiment\, allowing the body to become a trusted ally once again. This is an invitation to feel at home in your physical form as you support release and renewal from within. \nFollowing the movement portion\, we’ll transition into a Sound Bath guided by Singing Bowls of the Rockies. This portion of the experience is designed for grounding\, rest\, and nervous system integration. Layers of sound and vibration support regulation\, helping the body absorb and anchor the shifts created through movement. \nTogether\, these practices create a complete arc—expression followed by rest\, release followed by integration. No prior dance or sound bath experience is required. All bodies\, abilities\, and experience levels are welcome! \nSchedule:\n3:30 – 4:30 PM: Ecstatic Dance \n4:30 – 4:45 PM: Short Break \n4:45 – 6:00 PM: Sound Bath
URL:https://www.essentialwellnesssociety.com/event/ecstatic-dance-sound-bath-embodied-release-deep-rest/
CATEGORIES:Events
ATTACH;FMTTYPE=image/jpeg:https://www.essentialwellnesssociety.com/wp-content/uploads/2026/01/Ecstatic-Dance-Sound-Bath-Embodied-Release-Deep-Rest-12.jpg
ORGANIZER;CN="Gigi Turner PsyD":MAILTO:contact@singingbowlsoftherockies.com
END:VEVENT
BEGIN:VEVENT
DTSTART;TZID=America/Denver:20260210T180000
DTEND;TZID=America/Denver:20260210T193000
DTSTAMP:20260421T150745
CREATED:20260122T114032Z
LAST-MODIFIED:20260128T150340Z
UID:256271-1770746400-1770751800@www.essentialwellnesssociety.com
SUMMARY:Tending to the Heart — A Grounding Sound Bath
DESCRIPTION:Tending to the Heart — A Grounding Sound Bath is for the way Valentine’s Day actually feels — not just how it’s supposed to look. \nFor many people\, this time of year brings a mix of emotions: connection and longing\, gratitude and grief\, sweetness and comparison. Even when things are good\, the day can be emotionally loud. By the time it passes\, the heart often needs care more than celebration. \nThis sound bath is an invitation to slow down and tend to what’s been stirred. Rather than opening the heart further or revisiting old stories\, the focus is on grounding\, steadiness\, and emotional regulation. The sound unfolds gently\, offering support to the nervous system and creating a sense of being held — without pressure to feel a certain way. \nWhether Valentine’s Day felt meaningful\, complicated\, disappointing\, or simply exhausting\, you’re welcome here. You don’t need to define your experience or make sense of it. You’re invited to rest\, listen\, and allow the heart to settle back into balance. \nThis is a space for care\, not performance. Presence\, not pressure. A chance to tend to yourself with the same attention and kindness that love — in any form — deserves.
URL:https://www.essentialwellnesssociety.com/event/tending-to-the-heart-a-grounding-sound-bath/
CATEGORIES:Events
ATTACH;FMTTYPE=image/jpeg:https://www.essentialwellnesssociety.com/wp-content/uploads/2026/01/Tending-to-the-Heart-—-A-Grounding-Sound-Bath-1.jpg
ORGANIZER;CN="Gigi Turner PsyD":MAILTO:contact@singingbowlsoftherockies.com
END:VEVENT
BEGIN:VEVENT
DTSTART;TZID=America/Denver:20260212T120000
DTEND;TZID=America/Denver:20260212T130000
DTSTAMP:20260421T150745
CREATED:20260113T134029Z
LAST-MODIFIED:20260113T134029Z
UID:256185-1770897600-1770901200@www.essentialwellnesssociety.com
SUMMARY:Denver Chapter Meeting
DESCRIPTION:Hosted at: Yoga of the Mind \n23 Lincoln St #206\, Denver\, CO 80203 \nWe are in the church on the 2nd floor end of the hallway \nIf you have access issues\, please call 719-963-1999 ask for Taz
URL:https://www.essentialwellnesssociety.com/event/denver-chapter-meeting/
CATEGORIES:Network Event
ATTACH;FMTTYPE=image/png:https://www.essentialwellnesssociety.com/wp-content/uploads/2026/01/EWS-Sept-Flyer-.png
END:VEVENT
BEGIN:VEVENT
DTSTART;TZID=America/Denver:20260212T183000
DTEND;TZID=America/Denver:20260212T200000
DTSTAMP:20260421T150745
CREATED:20251223T000505Z
LAST-MODIFIED:20260227T131138Z
UID:256433-1770921000-1770926400@www.essentialwellnesssociety.com
SUMMARY:Falcon Chapter Networking Meeting
DESCRIPTION:Let’s get together for a colaborative networking meeting where we can connect with others who are passionate about wellness. It’s a great chance to share ideas\, chat about all things wellness\, self-care\, healing\, etc.\, and have a good time! \nNo matter if you’re a wellness pro or just curious to learn more\, everyone is welcome! Bring your questions\, a friend\, and your excitement as we kick off this journey together. \nThis event is designed to bring together wellness professionals and enthusiasts to collaborate\, share ideas\, and promote community wellness awareness. \nWhat to Expect: \n– Collaborating Wellness Professionals: The meeting will include a diverse group of wellness professionals such as holistic practitioners\, life coaches\, therapists\, https://www.essentialwellnesssociety.com \n– Community Wellness Awareness: Discussions will focus on promoting wellness within the community\, sharing knowledge about various health modalities\, and supporting each other’s wellness journeys \n– Learning and Growing Together: Attendees will have the opportunity to learn from each other\, ask questions\, and engage in meaningful conversations about wellness. \nFeel free to bring a friend and your enthusiasm for wellness! If you plan to attend\, make sure to RSVP. \nDoes this sound like something you’d be interested in attending? \nI can’t wait to meet you all and continue this adventure in wellness! \n✨ **Let me know if you’re coming so I can send you my address!** ✨ \n#EssentialWellnessSociety #FalconChapter #MeetAndGreet #WellnessJourney
URL:https://www.essentialwellnesssociety.com/event/falcon-chapter-networking-meeting-2/2026-02-12/
LOCATION:Leandra’s House\, Falcon\, 80831
CATEGORIES:Network Event
ORGANIZER;CN="Leandra Jackson":MAILTO:leandra@peakoilsforlife.com
GEO:38.9458493;-104.5189214
END:VEVENT
BEGIN:VEVENT
DTSTART;TZID=America/Denver:20260213T180000
DTEND;TZID=America/Denver:20260213T193000
DTSTAMP:20260421T150745
CREATED:20260122T114254Z
LAST-MODIFIED:20260122T114254Z
UID:256276-1771005600-1771011000@www.essentialwellnesssociety.com
SUMMARY:The Alchemy of the Heart: A Sound Bath for Release & Renewal
DESCRIPTION:The Alchemy of the Heart — A Sound Bath for Release & Renewal invites you into a slower\, deeper space at the start of Valentine’s weekend. Rather than focusing on romance or performance\, this sound bath centers on emotional honesty and inner transformation. Friday the 13th has long been associated with change and re-patterning — a powerful moment to let old stories around love\, grief\, or self-protection soften and release. \nLed by Singing Bowls of the Rockies\, this experience uses carefully layered sound to support nervous system settling and emotional integration. The tones move gradually and deliberately\, creating a sense of safety that allows the heart to open at its own pace. Many participants notice a feeling of spaciousness in the chest\, emotional clarity\, or a quiet sense of closure. There is nothing to fix and nothing to force. You’re simply invited to listen\, rest\, and allow what’s ready to move to do so. \nThis sound bath is especially supportive if you’re feeling tender\, reflective\, or ready to clear space for something new — whether that’s deeper self-trust\, renewed connection\, or a softer relationship with your own heart.
URL:https://www.essentialwellnesssociety.com/event/the-alchemy-of-the-heart-a-sound-bath-for-release-renewal/
CATEGORIES:Events
ATTACH;FMTTYPE=image/jpeg:https://www.essentialwellnesssociety.com/wp-content/uploads/2026/01/The-Alchemy-of-the-Heart-A-Sound-Bath-for-Release-Renewal-1.jpg
ORGANIZER;CN="Sarah Grant - Essential Wellness Society":MAILTO:essentialwellnesssociety@gmail.com
END:VEVENT
BEGIN:VEVENT
DTSTART;TZID=America/Denver:20260214T100000
DTEND;TZID=America/Denver:20260214T114500
DTSTAMP:20260421T150745
CREATED:20260122T114641Z
LAST-MODIFIED:20260122T114641Z
UID:256280-1771063200-1771069500@www.essentialwellnesssociety.com
SUMMARY:Valentine’s Sound Bath for Love\, Compassion & Gratitude
DESCRIPTION:Valentine’s Day can stir up a lot. Love\, longing\, gratitude\, tenderness\, and sometimes a quiet ache. This sound bath is a place to bring all of it. \nValentine’s Sound Bath for Love\, Compassion & Gratitude is an intentional evening designed to help you soften out of the noise and back into your body. Through layered live sound\, vibration\, and spacious pauses\, the nervous system is gently guided toward rest\, allowing the heart to open without force or expectation. \nThis experience isn’t about romance or fixing anything. It’s about remembering what it feels like to be held\, supported\, and connected — to yourself first. As the sound moves through the body\, many people notice a sense of warmth\, release\, and clarity\, as well as a ren \newed capacity for compassion and appreciation. \nWhether you’re coming solo\, with a partner\, or with a friend\, this is a meaningful way to spend Valentine’s Day — grounded\, nourishing\, and real. If this season has felt heavy\, rushed\, or emotionally charged\, this evening offers space to reset and leave feeling steadier\, softer\, and more present. \nSpots are limited\, and this experience fills quickly. Join us for a Valentine’s Day that honors the heart in a deeper way.
URL:https://www.essentialwellnesssociety.com/event/valentines-sound-bath-for-love-compassion-gratitude/
CATEGORIES:Events
ATTACH;FMTTYPE=image/jpeg:https://www.essentialwellnesssociety.com/wp-content/uploads/2026/01/Valentines-Sound-Bath-for-Love-Compassion-Gratitude1.jpg
ORGANIZER;CN="Gigi Turner PsyD":MAILTO:contact@singingbowlsoftherockies.com
END:VEVENT
BEGIN:VEVENT
DTSTART;TZID=America/Denver:20260214T150000
DTEND;TZID=America/Denver:20260214T170000
DTSTAMP:20260421T150745
CREATED:20260122T115123Z
LAST-MODIFIED:20260122T115123Z
UID:256285-1771081200-1771088400@www.essentialwellnesssociety.com
SUMMARY:Valentine's Day Sound Bath
DESCRIPTION:Valentine’s Day can stir up a lot. Joy. Longing. Gratitude. Grief. Connection. Absence. This Valentine’s Day Sound Bath is a space to hold all of it\, without needing to explain or fix anything. \nThis experience is for singles\, couples\, close friends\, and anyone walking through this day in their own way. It’s for those celebrating love\, those healing from heartbreak\, those honoring a relationship past or present\, and those remembering someone they’ve lost. You don’t need to arrive with a specific intention. Just come as you are. \nYou’ll be guided through a deeply immersive sound bath using layered instruments and resonant tones that move through the body\, helping the nervous system settle and the heart soften. Sound has a way of reaching places words can’t\, creating room for reflection\, release\, and quiet connection\, whether that connection is with yourself\, with someone beside you\, or with a memory held close. \nThis is not a performance and not a class. It’s an invitation to pause\, feel\, and be held by sound on a day that can feel tender for many. \nCome alone. Come together. Come to honor love\, in whatever shape it takes for you right now.
URL:https://www.essentialwellnesssociety.com/event/valentines-day-sound-bath/
CATEGORIES:Events
ATTACH;FMTTYPE=image/jpeg:https://www.essentialwellnesssociety.com/wp-content/uploads/2026/01/Valentines-Day-Sound-Bath-1.jpg
ORGANIZER;CN="Gigi Turner PsyD":MAILTO:contact@singingbowlsoftherockies.com
END:VEVENT
BEGIN:VEVENT
DTSTART;TZID=America/Denver:20260214T193000
DTEND;TZID=America/Denver:20260214T210000
DTSTAMP:20260421T150745
CREATED:20260205T111811Z
LAST-MODIFIED:20260205T111811Z
UID:256334-1771097400-1771102800@www.essentialwellnesssociety.com
SUMMARY:Valentine's Heart Opening Sound Bath
DESCRIPTION:Valentine’s Heart Opening Sound Bath offers a different way to experience Valentine’s Day—one centered on care\, presence\, and connection with yourself. This fully guided sound bath invites you to rest comfortably while live instruments are played in a slow\, intentional sequence designed to calm the nervous system and support deep relaxation.  \nThere is no movement\, sharing\, or participation required; this is a quiet\, receptive experience open to individuals\, friends\, partners\, and anyone seeking a softer way to close the day. The sounds and vibrations gradually ease tension and encourage a natural softening through the body and chest\, often felt as emotional ease or spaciousness.  \nWhether Valentine’s Day feels joyful\, complicated\, or simply like another Friday\, this evening offers a grounded\, supportive pause to unwind and reset.
URL:https://www.essentialwellnesssociety.com/event/valentines-heart-opening-sound-bath/
CATEGORIES:Events
ATTACH;FMTTYPE=image/png:https://www.essentialwellnesssociety.com/wp-content/uploads/2026/02/Valentines-Heart-Opening-Sound-Bath.png
ORGANIZER;CN="Gigi Turner PsyD":MAILTO:contact@singingbowlsoftherockies.com
END:VEVENT
END:VCALENDAR