BEGIN:VCALENDAR
VERSION:2.0
PRODID:-//Essential Wellness Society - ECPv6.15.20//NONSGML v1.0//EN
CALSCALE:GREGORIAN
METHOD:PUBLISH
X-WR-CALNAME:Essential Wellness Society
X-ORIGINAL-URL:https://www.essentialwellnesssociety.com
X-WR-CALDESC:Events for Essential Wellness Society
REFRESH-INTERVAL;VALUE=DURATION:PT1H
X-Robots-Tag:noindex
X-PUBLISHED-TTL:PT1H
BEGIN:VTIMEZONE
TZID:America/Denver
BEGIN:DAYLIGHT
TZOFFSETFROM:-0700
TZOFFSETTO:-0600
TZNAME:MDT
DTSTART:20250309T090000
END:DAYLIGHT
BEGIN:STANDARD
TZOFFSETFROM:-0600
TZOFFSETTO:-0700
TZNAME:MST
DTSTART:20251102T080000
END:STANDARD
BEGIN:DAYLIGHT
TZOFFSETFROM:-0700
TZOFFSETTO:-0600
TZNAME:MDT
DTSTART:20260308T090000
END:DAYLIGHT
BEGIN:STANDARD
TZOFFSETFROM:-0600
TZOFFSETTO:-0700
TZNAME:MST
DTSTART:20261101T080000
END:STANDARD
BEGIN:DAYLIGHT
TZOFFSETFROM:-0700
TZOFFSETTO:-0600
TZNAME:MDT
DTSTART:20270314T090000
END:DAYLIGHT
BEGIN:STANDARD
TZOFFSETFROM:-0600
TZOFFSETTO:-0700
TZNAME:MST
DTSTART:20271107T080000
END:STANDARD
END:VTIMEZONE
BEGIN:VEVENT
DTSTART;TZID=America/Denver:20260118T150000
DTEND;TZID=America/Denver:20260118T173000
DTSTAMP:20260421T043843
CREATED:20251223T011138Z
LAST-MODIFIED:20260108T160849Z
UID:256078-1768748400-1768757400@www.essentialwellnesssociety.com
SUMMARY:New Moon Sound Bath & Cacao Ceremony
DESCRIPTION:Join us under the tranquil embrace of the New Moon for an evening of sound healing and inner reflection. This gathering is designed to align your energy with the renewing power of the lunar cycle\, offering a peaceful reset from the rhythm of daily life. \nAs the new moon invites new beginnings\, you’ll be guided by Dr. Gigi Turner\, PsyD\, into a deeply immersive sound bath experience using crystal and Tibetan singing bowls\, chimes\, flutes\, and other harmonic instruments. The sound encourages the nervous system to soften and settle\, creating space to release what no longer serves you and invite in clarity\, peace\, and openness. \nWe’ll close our time together with a cup of ceremonial cacao sourced from Guatemala. Ceremonial cacao is known for its natural ability to gently open the heart and support emotional presence. It isn’t psychedelic or intense—rather\, it encourages warmth\, groundedness\, and a deeper connection with yourself and the space around you. Sharing cacao together helps us integrate the experience\, allowing the insights and sensations from the sound bath to land more fully. \n \nWhat to Expect:\n\n\nOpening Meditation: Arrive into your body and breath with a gentle guided meditation. \n\n\nSound Bath Experience: Rest in the resonance of layered sound designed to soothe\, calm\, and restore. \n\n\nIntention Setting: Align with the energy of the new moon to plant seeds for the cycle ahead. \n\n\nCeremonial Cacao: We’ll close with a shared cup of ceremonial-grade cacao sourced from Guatemala—offered to gently open the heart\, ground the experience\, and support connection with yourself and the group. \n\n\n \nWhat to Bring:\nTo help us care for our premium floor cushions\, we ask that you please bring one sheet to cover your mat and one blanket to stay warm during the sound bath. You’re also welcome to bring a pillow for extra comfort. This helps us maintain a clean\, cozy space for everyone. No yoga mat needed! Come dressed comfortably\, bring water\, and eat beforehand. \nFor the best experience and to ensure a harmonious start for all participants\, we kindly request your timely arrival. Your punctuality is greatly appreciated. Doors open 7 minutes before event start time. \n \nDetails:\n$49 per person \n76 S Sierra Madre St Suite C\, Colorado Springs\, CO 80903\, USA \nTickets available here: https://www.singingbowlsoftherockies.com/event-details/new-moon-sound-bath-cacao-ceremony-9 \n \nMedical Notice:\nIf you have any serious medical condition  (i.e. metal in the body/brain injury\, tinnitus\, epilepsy\, metal in the body\, etc…) make sure you get written permission from your doctor allowing your attendance of a live sound bath. The reason being that some conditions do not take well to the strong vibrations of sound baths. Additionally\, please inform Gigi of your condition before joining us at our sound bath\, thank you! \n \nCancellation Policy:\nPlease note that all sales are final. We’re unable to offer refunds for this event. Thank you for understanding and for honoring the energy and preparation that goes into each experience.
URL:https://www.essentialwellnesssociety.com/event/new-moon-sound-bath-cacao-ceremony/
CATEGORIES:Events
ATTACH;FMTTYPE=image/jpeg:https://www.essentialwellnesssociety.com/wp-content/uploads/2025/12/New-Moon-Sound-Bath2.jpg
ORGANIZER;CN="Gigi Turner PsyD":MAILTO:contact@singingbowlsoftherockies.com
END:VEVENT
BEGIN:VEVENT
DTSTART;TZID=America/Denver:20260121T180000
DTEND;TZID=America/Denver:20260121T193000
DTSTAMP:20260421T043843
CREATED:20251223T011127Z
LAST-MODIFIED:20260108T160827Z
UID:256083-1769018400-1769023800@www.essentialwellnesssociety.com
SUMMARY:Accessing Your Heart Space Sound Bath
DESCRIPTION:Accessing Your Heart Space is a sound bath centered on tenderness\, connection\, and the subtle intelligence of the heart. Through waves of resonant sound\, you’re invited to settle beneath the noise of the mind and into a quieter place — one that feels open\, receptive\, and deeply human. \nAs you rest\, the sounds move slowly and deliberately\, creating an atmosphere that encourages emotional softening and gentle awareness. Many people notice a sense of warmth in the chest\, a feeling of spaciousness\, or a renewed connection to compassion — for themselves and for others. There is no pressure to feel anything specific. The experience meets you exactly where you are. \nThis sound bath is especially supportive if you’ve been feeling closed off\, disconnected\, or guarded\, or if you’re simply longing for a moment of sincerity and presence. The vibrations work subtly\, inviting the body to relax and the heart to feel safe enough to open\, even just a little. \nThere is nothing to fix\, release\, or force. Only an invitation to rest\, listen\, and spend some time in the quiet center of yourself. \n \nWHAT IS A SOUND BATH? \nA sound bath is a meditative experience where people are “bathed” in sound waves produced by various overtone-emitting instruments\, including singing bowls\, gongs\, chimes\, and more. During a sound bath\, people lie down and listen to resonant sounds\, allowing their brain waves to slow and shift from a more active state to a more relaxed or dreamlike state. The goal of the experience is to invite deep rest and relaxation\, explore self-inquiry and self-discovery\, and help people let go of stress\, anxiety\, or other worries. A sound bath is typically a way of managing anxiety\, soothing the nervous system\, and blocking all the ideas and thoughts out of your consciousness as you connect with your body.  \nOur sound baths may include the following instruments: over 70 Crystal Singing Bowls & Tibetan Singing Bowls (including 5 sets of Chakra Tuned Singing Bowls)\, Crystal Quartzophone Harp\, Zaphir Chimes\, Bar Chimes\, Flutes\, Rain Stick\, Buffalo Drum\, Ocean Drum\, Steel Tongue Drum\, Handpans\, Kalimba\, Tingshas and other traditional instruments from around the world. \n \nWHAT TO BRING: \nTo help us care for our premium floor cushions\, we ask that you please bring one sheet to cover your mat and one blanket to stay warm during the sound bath. You’re also welcome to bring a pillow for extra comfort. This helps us maintain a clean\, cozy space for everyone. No yoga mat needed! Come dressed comfortably\, bring water\, and eat beforehand. \nFor the best experience and to ensure a harmonious start for all participants\, we kindly request your timely arrival. Your punctuality is greatly appreciated. \n \nDETAILS: \n$39 per person \n76 S Sierra Madre St Suite C\, Colorado Springs\, CO 80903\, USA \nTickets available here: https://www.singingbowlsoftherockies.com/event-details/accessing-your-heart-space-sound-bath \n \nMEDICAL NOTICE\, PLEASE READ: \nIf you have any serious medical condition  (i.e. metal in the body/brain injury\, tinnitus\, epilepsy\, metal in the body\, etc…) make sure you get written permission from your doctor allowing your attendance of a live sound bath. The reason being that some conditions do not take well to the strong vibrations of sound baths. Additionally\, please inform Gigi of your condition before joining us at our sound bath\, thank you! \n \nCANCELLATION POLICY: \nPlease note that all sales are final. We’re unable to offer refunds for this event. Thank you for understanding and for honoring the energy and preparation that goes into each experience.
URL:https://www.essentialwellnesssociety.com/event/accessing-your-heart-space-sound-bath/
CATEGORIES:Events
ATTACH;FMTTYPE=image/png:https://www.essentialwellnesssociety.com/wp-content/uploads/2025/12/Accessing-Your-Heart-Space-Sound-Bath.png
ORGANIZER;CN="Gigi Turner PsyD":MAILTO:contact@singingbowlsoftherockies.com
END:VEVENT
BEGIN:VEVENT
DTSTART;TZID=America/Denver:20260124T160000
DTEND;TZID=America/Denver:20260124T180000
DTSTAMP:20260421T043843
CREATED:20260113T134054Z
LAST-MODIFIED:20260113T134054Z
UID:256088-1769270400-1769277600@www.essentialwellnesssociety.com
SUMMARY:Sound as Medicine: A Hands-On Sound Healing Class
DESCRIPTION:Sound as Medicine is an intimate January training offered by Singing Bowls of the Rockies for those interested in learning sound as a felt\, experiential practice. \nThis training approaches sound as medicine—focusing on listening\, presence\, and relationship with sound. Sessions include hands-on work with singing bowls\, listening practices\, and guided exploration of sound and vibration\, allowing participants to understand how tone and resonance interact with the nervous system and the body through direct experience. \nThe class is intentionally kept very small\, with private or one-student-per-class instruction. This format supports individualized pacing\, focused practice\, and meaningful integration. The training emphasizes experiential learning rather than performance or certification. \nThis offering is well-suited for: \n\n\nAspiring sound practitioners \n\n\nHealers\, therapists\, yoga teachers\, and wellness professionals \n\n\nThose wanting to learn sound for personal\, family\, or community use \n\n\nAnyone curious about the healing effects of sound and vibration \n\n\n \nNo prior experience with sound healing or music is required. \nBefore the training begins\, Gigi will personally speak with each participant to understand their background\, intentions\, and goals. Enrollment begins with a brief conversation to determine fit and availability\, and the class format is shaped to support each participant’s experience level and schedule. \n \nWhat to Bring:\nWe ask that you please bring a blanket or bedsheet to cover our cushioned floor mats to protect them for long-term use\, and another blanket for staying cozy\, if you’d like. No yoga mat needed! Please dress comfortably\, bring water\, and eat beforehand. \nFor the best experience and to ensure a harmonious start for all participants\, we kindly request your timely arrival. Your punctuality is greatly appreciated. \n \nDetails:\n$49 per person \n76 S Sierra Madre St Suite C\, Colorado Springs\, CO 80903\, USA \nTickets available here: https://www.singingbowlsoftherockies.com/event-details/sound-as-medicine-a-hands-on-sound-healing-class \n \nMedical Notice – Please Read:\nIf you have any serious medical condition  (i.e. metal in the body brain injury\, epilepsy\, etc…) make sure you get written permission from your doctor allowing your attendance of a live sound bath. The reason being that some conditions do not take well to the strong vibrations of sound baths. Additionally\, please inform Gigi of your condition before joining us at our sound bath\, thank you!
URL:https://www.essentialwellnesssociety.com/event/sound-as-medicine-a-hands-on-sound-healing-class/
CATEGORIES:Events
ATTACH;FMTTYPE=image/png:https://www.essentialwellnesssociety.com/wp-content/uploads/2025/12/Sound-as-Medicine-A-Hands-On-Sound-Healing-Class.png
ORGANIZER;CN="Gigi Turner PsyD":MAILTO:contact@singingbowlsoftherockies.com
END:VEVENT
END:VCALENDAR