BEGIN:VCALENDAR
VERSION:2.0
PRODID:-//Essential Wellness Society - ECPv6.15.20//NONSGML v1.0//EN
CALSCALE:GREGORIAN
METHOD:PUBLISH
X-ORIGINAL-URL:https://www.essentialwellnesssociety.com
X-WR-CALDESC:Events for Essential Wellness Society
REFRESH-INTERVAL;VALUE=DURATION:PT1H
X-Robots-Tag:noindex
X-PUBLISHED-TTL:PT1H
BEGIN:VTIMEZONE
TZID:America/Denver
BEGIN:DAYLIGHT
TZOFFSETFROM:-0700
TZOFFSETTO:-0600
TZNAME:MDT
DTSTART:20200308T090000
END:DAYLIGHT
BEGIN:STANDARD
TZOFFSETFROM:-0600
TZOFFSETTO:-0700
TZNAME:MST
DTSTART:20201101T080000
END:STANDARD
BEGIN:DAYLIGHT
TZOFFSETFROM:-0700
TZOFFSETTO:-0600
TZNAME:MDT
DTSTART:20210314T090000
END:DAYLIGHT
BEGIN:STANDARD
TZOFFSETFROM:-0600
TZOFFSETTO:-0700
TZNAME:MST
DTSTART:20211107T080000
END:STANDARD
BEGIN:DAYLIGHT
TZOFFSETFROM:-0700
TZOFFSETTO:-0600
TZNAME:MDT
DTSTART:20220313T090000
END:DAYLIGHT
BEGIN:STANDARD
TZOFFSETFROM:-0600
TZOFFSETTO:-0700
TZNAME:MST
DTSTART:20221106T080000
END:STANDARD
END:VTIMEZONE
BEGIN:VEVENT
DTSTART;TZID=America/Denver:20211016T110000
DTEND;TZID=America/Denver:20211016T120000
DTSTAMP:20260425T080934
CREATED:20211012T165356Z
LAST-MODIFIED:20211012T165356Z
UID:10277-1634382000-1634385600@www.essentialwellnesssociety.com
SUMMARY:Child Abduction Prevention Workshop
DESCRIPTION:For Ages 4 to 12 years old.\nAs a parent… it’s scary thinking about what can happen to our kids when we aren’t around. We can’t be with them twenty-four hours a day to protect them. Luckily\, we can teach them about the dangers of strangers and what to do if they are approached\, just as we teach them what to do in case of a fire or other emergency.\nUniversal Kempo Karate Schools Association specializes in making children safer in our community. You and your child are invited and encouraged to participate in this upcoming personal safety seminar for children 4 to 12 years old.\nThis interactive seminar will cover:\n-awareness\, prevention and safety tips\n– fun\, interactive role plays and scenarios\n-basic escape strategies\n-free safety success handbook to all participants\n“Let us help PROTECT your child’s innocence”\nCall to reserve your seat today!\nRSVP: 719-896-0593\nUniversal Kempo-Karate School Association\nLearn more: www.coloradospringskidskarate.com
URL:https://www.essentialwellnesssociety.com/event/child-abduction-prevention-workshop/
ATTACH;FMTTYPE=image/jpeg:https://www.essentialwellnesssociety.com/wp-content/uploads/2021/10/9-30-21-October-CAPW.jpg
ORGANIZER;CN="Sarah Grant - Essential Wellness Society":MAILTO:essentialwellnesssociety@gmail.com
END:VEVENT
BEGIN:VEVENT
DTSTART;TZID=America/Denver:20210925T100000
DTEND;TZID=America/Denver:20210925T150000
DTSTAMP:20260425T080934
CREATED:20210913T021910Z
LAST-MODIFIED:20210913T021910Z
UID:10268-1632564000-1632582000@www.essentialwellnesssociety.com
SUMMARY:Holistic Health Celebration
DESCRIPTION:Free Sample of NeuroTechnology that activates your neuroreceptors to optimize energy\, stamina\, physical function and reduce pain. Welcome to the Voxxlife experience.  The Voxxlife Human Performance Technology triggers a response\, that affects the body and you will feel the difference in 7-seconds.  Don’t overthink this one.  This new discovery will change NeuroScience for the next 100 years and you will find yourself wanting to compare it to other products…and you can’t…because there are NONE. \nJoin me at 11 for Brain Health Insights.  Marla Koupal\, 719-964-2268
URL:https://www.essentialwellnesssociety.com/event/holistic-health-celebration/
LOCATION:Westside Community Center\, 1628 W Bijou St\, Colorado Springs\, CO\, 80904
ATTACH;FMTTYPE=image/png:https://www.essentialwellnesssociety.com/wp-content/uploads/2021/09/osfm-ad-1.png
ORGANIZER;CN="Sarah Grant - Essential Wellness Society":MAILTO:essentialwellnesssociety@gmail.com
GEO:38.8430591;-104.8481069
X-APPLE-STRUCTURED-LOCATION;VALUE=URI;X-ADDRESS=Westside Community Center 1628 W Bijou St Colorado Springs CO 80904;X-APPLE-RADIUS=500;X-TITLE=1628 W Bijou St:geo:-104.8481069,38.8430591
END:VEVENT
BEGIN:VEVENT
DTSTART;TZID=America/Denver:20210925T100000
DTEND;TZID=America/Denver:20210925T150000
DTSTAMP:20260425T080934
CREATED:20210813T160812Z
LAST-MODIFIED:20210903T025737Z
UID:10213-1632564000-1632582000@www.essentialwellnesssociety.com
SUMMARY:Local Holistic Health Week Celebration
DESCRIPTION:Join us for an amazing FREE community event!!\nLocal Holistic Health Week Celebration will be on Saturday\, September 25th\, 2021\nThe Celebration is a vendor event filled with holistic practitioners\, homemade products\, educational presentations\, and much more!\nLocal Holistic Health Week of Colorado Springs is September 19-25\, 2021 and there will be a planning committee for anyone wanting to collaborate!\nJoin the FB Group: www.facebook.com/groups/ewsociety\nEmail: essentialwellnesssociety@gmail.com if you have suggestions\, want to be involved\, or questions!
URL:https://www.essentialwellnesssociety.com/event/local-holistic-health-week-celebration/
LOCATION:Westside Community Center\, 1628 W Bijou St\, Colorado Springs\, CO\, 80904
ORGANIZER;CN="Sarah Grant - Essential Wellness Society":MAILTO:essentialwellnesssociety@gmail.com
GEO:38.8430591;-104.8481069
X-APPLE-STRUCTURED-LOCATION;VALUE=URI;X-ADDRESS=Westside Community Center 1628 W Bijou St Colorado Springs CO 80904;X-APPLE-RADIUS=500;X-TITLE=1628 W Bijou St:geo:-104.8481069,38.8430591
END:VEVENT
END:VCALENDAR