BEGIN:VCALENDAR
VERSION:2.0
PRODID:-//Essential Wellness Society - ECPv6.15.20//NONSGML v1.0//EN
CALSCALE:GREGORIAN
METHOD:PUBLISH
X-ORIGINAL-URL:https://www.essentialwellnesssociety.com
X-WR-CALDESC:Events for Essential Wellness Society
REFRESH-INTERVAL;VALUE=DURATION:PT1H
X-Robots-Tag:noindex
X-PUBLISHED-TTL:PT1H
BEGIN:VTIMEZONE
TZID:America/Denver
BEGIN:DAYLIGHT
TZOFFSETFROM:-0700
TZOFFSETTO:-0600
TZNAME:MDT
DTSTART:20250309T090000
END:DAYLIGHT
BEGIN:STANDARD
TZOFFSETFROM:-0600
TZOFFSETTO:-0700
TZNAME:MST
DTSTART:20251102T080000
END:STANDARD
BEGIN:DAYLIGHT
TZOFFSETFROM:-0700
TZOFFSETTO:-0600
TZNAME:MDT
DTSTART:20260308T090000
END:DAYLIGHT
BEGIN:STANDARD
TZOFFSETFROM:-0600
TZOFFSETTO:-0700
TZNAME:MST
DTSTART:20261101T080000
END:STANDARD
BEGIN:DAYLIGHT
TZOFFSETFROM:-0700
TZOFFSETTO:-0600
TZNAME:MDT
DTSTART:20270314T090000
END:DAYLIGHT
BEGIN:STANDARD
TZOFFSETFROM:-0600
TZOFFSETTO:-0700
TZNAME:MST
DTSTART:20271107T080000
END:STANDARD
END:VTIMEZONE
BEGIN:VEVENT
DTSTART;TZID=America/Denver:20260129T180000
DTEND;TZID=America/Denver:20260129T193000
DTSTAMP:20260419T144700
CREATED:20251223T001223Z
LAST-MODIFIED:20260108T160704Z
UID:256103-1769709600-1769715000@www.essentialwellnesssociety.com
SUMMARY:Sacred Stillness Sound Bath
DESCRIPTION:Sacred Stillness Sound Bath is an invitation to pause beneath the noise of daily life and enter a slower\, more spacious state of being. This experience is designed to support deep rest\, nervous system regulation\, and a gentle unwinding of mental and emotional tension. \nThrough carefully guided sound\, layers of resonant tones move through the body\, encouraging the mind to release effort and the body to settle into natural rhythms. Rather than “doing\,” this is a practice of allowing—allowing breath to deepen\, awareness to soften\, and stillness to emerge from within. \nThis sound bath is ideal for anyone feeling overstimulated\, emotionally full\, or simply in need of quiet recalibration. No experience is required—just a willingness to rest\, listen\, and receive. \nYou may leave feeling grounded\, clear\, and subtly reconnected to a deeper sense of inner quiet—one that lingers well beyond the session. \n \nWHAT IS A SOUND BATH? \nA sound bath is a meditative experience where people are “bathed” in sound waves produced by various overtone-emitting instruments\, including singing bowls\, gongs\, chimes\, and more. During a sound bath\, people lie down and listen to resonant sounds\, allowing their brain waves to slow and shift from a more active state to a more relaxed or dreamlike state. The goal of the experience is to invite deep rest and relaxation\, explore self-inquiry and self-discovery\, and help people let go of stress\, anxiety\, or other worries. A sound bath is typically a way of managing anxiety\, soothing the nervous system\, and blocking all the ideas and thoughts out of your consciousness as you connect with your body.  \nOur sound baths may include the following instruments: over 70 Crystal Singing Bowls & Tibetan Singing Bowls (including 5 sets of Chakra Tuned Singing Bowls)\, Crystal Quartzophone Harp\, Zaphir Chimes\, Bar Chimes\, Flutes\, Rain Stick\, Buffalo Drum\, Ocean Drum\, Steel Tongue Drum\, Handpans\, Kalimba\, Tingshas and other traditional instruments from around the world. \n \nWHAT TO BRING: \nTo help us care for our premium floor cushions\, we ask that you please bring one sheet to cover your mat and one blanket to stay warm during the sound bath. You’re also welcome to bring a pillow for extra comfort. This helps us maintain a clean\, cozy space for everyone. No yoga mat needed! Come dressed comfortably\, bring water\, and eat beforehand. \nFor the best experience and to ensure a harmonious start for all participants\, we kindly request your timely arrival. Your punctuality is greatly appreciated. \n \nDETAILS: \n$39 per person \n76 S Sierra Madre St Suite C\, Colorado Springs\, CO 80903\, USA \nTickets available here: https://www.singingbowlsoftherockies.com/event-details/sacred-stillness-sound-bath \n \nMEDICAL NOTICE\, PLEASE READ: \nIf you have any serious medical condition  (i.e. metal in the body/brain injury\, tinnitus\, epilepsy\, metal in the body\, etc…) make sure you get written permission from your doctor allowing your attendance of a live sound bath. The reason being that some conditions do not take well to the strong vibrations of sound baths. Additionally\, please inform Gigi of your condition before joining us at our sound bath\, thank you! \n \nCANCELLATION POLICY: \nPlease note that all sales are final. We’re unable to offer refunds for this event. Thank you for understanding and for honoring the energy and preparation that goes into each experience.
URL:https://www.essentialwellnesssociety.com/event/sacred-stillness-sound-bath/
CATEGORIES:Events
ATTACH;FMTTYPE=image/jpeg:https://www.essentialwellnesssociety.com/wp-content/uploads/2025/12/Sacred-Stillness-Sound-Bath.jpg
ORGANIZER;CN="Gigi Turner PsyD":MAILTO:contact@singingbowlsoftherockies.com
END:VEVENT
END:VCALENDAR