BEGIN:VCALENDAR
VERSION:2.0
PRODID:-//Essential Wellness Society - ECPv6.15.20//NONSGML v1.0//EN
CALSCALE:GREGORIAN
METHOD:PUBLISH
X-WR-CALNAME:Essential Wellness Society
X-ORIGINAL-URL:https://www.essentialwellnesssociety.com
X-WR-CALDESC:Events for Essential Wellness Society
REFRESH-INTERVAL;VALUE=DURATION:PT1H
X-Robots-Tag:noindex
X-PUBLISHED-TTL:PT1H
BEGIN:VTIMEZONE
TZID:America/Denver
BEGIN:DAYLIGHT
TZOFFSETFROM:-0700
TZOFFSETTO:-0600
TZNAME:MDT
DTSTART:20250309T090000
END:DAYLIGHT
BEGIN:STANDARD
TZOFFSETFROM:-0600
TZOFFSETTO:-0700
TZNAME:MST
DTSTART:20251102T080000
END:STANDARD
BEGIN:DAYLIGHT
TZOFFSETFROM:-0700
TZOFFSETTO:-0600
TZNAME:MDT
DTSTART:20260308T090000
END:DAYLIGHT
BEGIN:STANDARD
TZOFFSETFROM:-0600
TZOFFSETTO:-0700
TZNAME:MST
DTSTART:20261101T080000
END:STANDARD
BEGIN:DAYLIGHT
TZOFFSETFROM:-0700
TZOFFSETTO:-0600
TZNAME:MDT
DTSTART:20270314T090000
END:DAYLIGHT
BEGIN:STANDARD
TZOFFSETFROM:-0600
TZOFFSETTO:-0700
TZNAME:MST
DTSTART:20271107T080000
END:STANDARD
END:VTIMEZONE
BEGIN:VEVENT
DTSTART;TZID=America/Denver:20260127T180000
DTEND;TZID=America/Denver:20260127T193000
DTSTAMP:20260419T144118
CREATED:20251223T001246Z
LAST-MODIFIED:20260108T160723Z
UID:256098-1769536800-1769542200@www.essentialwellnesssociety.com
SUMMARY:Heart's Release: Sound Bath for Letting Go
DESCRIPTION:Join us for a deeply nurturing sound bath experience created to hold space for the tender process of release and healing. As Valentine’s approaches\, it can stir up emotions around love\, loss\, and letting go—this gathering offers a serene\, supportive environment to gently process those feelings. Surrounded by the calming resonance of crystal singing bowls\, chimes\, and other healing instruments\, you’ll be guided into a meditative state where the heart can soften\, memories can flow\, and a quiet sense of peace can take root.  \nWhether you’re navigating the loss of a loved one\, releasing old attachments\, or simply seeking a moment of self-compassion\, this event is designed to honor your personal journey in a safe and welcoming space. Please bring a blanket\, pillow\, and anything else to make yourself cozy—come as you are\, ready to simply be. \nWe look forward to holding space for your release and renewal. \n \nWHAT IS A SOUND BATH? \nA sound bath is a meditative experience where people are “bathed” in sound waves produced by various overtone-emitting instruments\, including singing bowls\, gongs\, chimes\, and more. During a sound bath\, people lie down and listen to resonant sounds\, allowing their brain waves to slow and shift from a more active state to a more relaxed or dreamlike state. The goal of the experience is to invite deep rest and relaxation\, explore self-inquiry and self-discovery\, and help people let go of stress\, anxiety\, or other worries. A sound bath is typically a way of managing anxiety\, soothing the nervous system\, and blocking all the ideas and thoughts out of your consciousness as you connect with your body.  \nOur sound baths may include the following instruments: over 70 Crystal Singing Bowls & Tibetan Singing Bowls (including 5 sets of Chakra Tuned Singing Bowls)\, Crystal Quartzophone Harp\, Zaphir Chimes\, Bar Chimes\, Flutes\, Rain Stick\, Buffalo Drum\, Ocean Drum\, Steel Tongue Drum\, Handpans\, Kalimba\, Tingshas and other traditional instruments from around the world. \n \nWHAT TO BRING: \nIf possible\, we ask that you please bring your own blanket or bedsheet to cover our cushioned floor mats. No yoga mat needed! We can provide these items for you if you’re unable to bring them. Please dress comfortably\, bring water\, and eat beforehand. \nFor the best experience and to ensure a harmonious start for all participants\, we kindly request your timely arrival. Your punctuality is greatly appreciated. \n \nDETAILS: \n$39 per person \n76 S Sierra Madre St Suite C\, Colorado Springs\, CO 80903\, USA \nTickets available here: https://www.singingbowlsoftherockies.com/event-details/hearts-release-sound-bath-for-letting-go-7 \n \nMEDICAL NOTICE\, PLEASE READ: \nIf you have any serious medical condition  (i.e. metal in the body/brain injury\, tinnitus\, epilepsy\, metal in the body\, etc…) make sure you get written permission from your doctor allowing your attendance of a live sound bath. The reason being that some conditions do not take well to the strong vibrations of sound baths. Additionally\, please inform Gigi of your condition before joining us at our sound bath\, thank you!
URL:https://www.essentialwellnesssociety.com/event/hearts-release-sound-bath-for-letting-go/
CATEGORIES:Events
ATTACH;FMTTYPE=image/png:https://www.essentialwellnesssociety.com/wp-content/uploads/2025/12/Hearts-Release-Sound-Bath-for-Letting-Go-000.png
ORGANIZER;CN="Gigi Turner PsyD":MAILTO:contact@singingbowlsoftherockies.com
END:VEVENT
END:VCALENDAR