BEGIN:VCALENDAR
VERSION:2.0
PRODID:-//Essential Wellness Society - ECPv6.15.20//NONSGML v1.0//EN
CALSCALE:GREGORIAN
METHOD:PUBLISH
X-ORIGINAL-URL:https://www.essentialwellnesssociety.com
X-WR-CALDESC:Events for Essential Wellness Society
REFRESH-INTERVAL;VALUE=DURATION:PT1H
X-Robots-Tag:noindex
X-PUBLISHED-TTL:PT1H
BEGIN:VTIMEZONE
TZID:America/Denver
BEGIN:DAYLIGHT
TZOFFSETFROM:-0700
TZOFFSETTO:-0600
TZNAME:MDT
DTSTART:20250309T090000
END:DAYLIGHT
BEGIN:STANDARD
TZOFFSETFROM:-0600
TZOFFSETTO:-0700
TZNAME:MST
DTSTART:20251102T080000
END:STANDARD
BEGIN:DAYLIGHT
TZOFFSETFROM:-0700
TZOFFSETTO:-0600
TZNAME:MDT
DTSTART:20260308T090000
END:DAYLIGHT
BEGIN:STANDARD
TZOFFSETFROM:-0600
TZOFFSETTO:-0700
TZNAME:MST
DTSTART:20261101T080000
END:STANDARD
BEGIN:DAYLIGHT
TZOFFSETFROM:-0700
TZOFFSETTO:-0600
TZNAME:MDT
DTSTART:20270314T090000
END:DAYLIGHT
BEGIN:STANDARD
TZOFFSETFROM:-0600
TZOFFSETTO:-0700
TZNAME:MST
DTSTART:20271107T080000
END:STANDARD
END:VTIMEZONE
BEGIN:VEVENT
DTSTART;TZID=America/Denver:20260124T160000
DTEND;TZID=America/Denver:20260124T180000
DTSTAMP:20260421T124635
CREATED:20260113T134054Z
LAST-MODIFIED:20260113T134054Z
UID:256088-1769270400-1769277600@www.essentialwellnesssociety.com
SUMMARY:Sound as Medicine: A Hands-On Sound Healing Class
DESCRIPTION:Sound as Medicine is an intimate January training offered by Singing Bowls of the Rockies for those interested in learning sound as a felt\, experiential practice. \nThis training approaches sound as medicine—focusing on listening\, presence\, and relationship with sound. Sessions include hands-on work with singing bowls\, listening practices\, and guided exploration of sound and vibration\, allowing participants to understand how tone and resonance interact with the nervous system and the body through direct experience. \nThe class is intentionally kept very small\, with private or one-student-per-class instruction. This format supports individualized pacing\, focused practice\, and meaningful integration. The training emphasizes experiential learning rather than performance or certification. \nThis offering is well-suited for: \n\n\nAspiring sound practitioners \n\n\nHealers\, therapists\, yoga teachers\, and wellness professionals \n\n\nThose wanting to learn sound for personal\, family\, or community use \n\n\nAnyone curious about the healing effects of sound and vibration \n\n\n \nNo prior experience with sound healing or music is required. \nBefore the training begins\, Gigi will personally speak with each participant to understand their background\, intentions\, and goals. Enrollment begins with a brief conversation to determine fit and availability\, and the class format is shaped to support each participant’s experience level and schedule. \n \nWhat to Bring:\nWe ask that you please bring a blanket or bedsheet to cover our cushioned floor mats to protect them for long-term use\, and another blanket for staying cozy\, if you’d like. No yoga mat needed! Please dress comfortably\, bring water\, and eat beforehand. \nFor the best experience and to ensure a harmonious start for all participants\, we kindly request your timely arrival. Your punctuality is greatly appreciated. \n \nDetails:\n$49 per person \n76 S Sierra Madre St Suite C\, Colorado Springs\, CO 80903\, USA \nTickets available here: https://www.singingbowlsoftherockies.com/event-details/sound-as-medicine-a-hands-on-sound-healing-class \n \nMedical Notice – Please Read:\nIf you have any serious medical condition  (i.e. metal in the body brain injury\, epilepsy\, etc…) make sure you get written permission from your doctor allowing your attendance of a live sound bath. The reason being that some conditions do not take well to the strong vibrations of sound baths. Additionally\, please inform Gigi of your condition before joining us at our sound bath\, thank you!
URL:https://www.essentialwellnesssociety.com/event/sound-as-medicine-a-hands-on-sound-healing-class/
CATEGORIES:Events
ATTACH;FMTTYPE=image/png:https://www.essentialwellnesssociety.com/wp-content/uploads/2025/12/Sound-as-Medicine-A-Hands-On-Sound-Healing-Class.png
ORGANIZER;CN="Gigi Turner PsyD":MAILTO:contact@singingbowlsoftherockies.com
END:VEVENT
END:VCALENDAR