BEGIN:VCALENDAR
VERSION:2.0
PRODID:-//Essential Wellness Society - ECPv6.15.20//NONSGML v1.0//EN
CALSCALE:GREGORIAN
METHOD:PUBLISH
X-ORIGINAL-URL:https://www.essentialwellnesssociety.com
X-WR-CALDESC:Events for Essential Wellness Society
REFRESH-INTERVAL;VALUE=DURATION:PT1H
X-Robots-Tag:noindex
X-PUBLISHED-TTL:PT1H
BEGIN:VTIMEZONE
TZID:America/Denver
BEGIN:DAYLIGHT
TZOFFSETFROM:-0700
TZOFFSETTO:-0600
TZNAME:MDT
DTSTART:20240310T090000
END:DAYLIGHT
BEGIN:STANDARD
TZOFFSETFROM:-0600
TZOFFSETTO:-0700
TZNAME:MST
DTSTART:20241103T080000
END:STANDARD
BEGIN:DAYLIGHT
TZOFFSETFROM:-0700
TZOFFSETTO:-0600
TZNAME:MDT
DTSTART:20250309T090000
END:DAYLIGHT
BEGIN:STANDARD
TZOFFSETFROM:-0600
TZOFFSETTO:-0700
TZNAME:MST
DTSTART:20251102T080000
END:STANDARD
BEGIN:DAYLIGHT
TZOFFSETFROM:-0700
TZOFFSETTO:-0600
TZNAME:MDT
DTSTART:20260308T090000
END:DAYLIGHT
BEGIN:STANDARD
TZOFFSETFROM:-0600
TZOFFSETTO:-0700
TZNAME:MST
DTSTART:20261101T080000
END:STANDARD
END:VTIMEZONE
BEGIN:VEVENT
DTSTART;TZID=America/Denver:20251228T160000
DTEND;TZID=America/Denver:20251228T173000
DTSTAMP:20260421T080909
CREATED:20260113T134217Z
LAST-MODIFIED:20260113T134217Z
UID:255962-1766937600-1766943000@www.essentialwellnesssociety.com
SUMMARY:Sound Bath for Integration\, healing & Closure
DESCRIPTION:As the year comes to a close\, this session offers a peaceful space to slow down\, look back\, and gently integrate everything you’ve moved through — the big moments\, the challenges\, the growth\, and the lessons. \nJoin us for a grounding sound bath designed to support emotional closure and inner clarity. The soothing tones of crystal and Tibetan singing bowls\, chimes\, and soft harmonic layers help calm the nervous system\, quiet mental chatter\, and create the inner stillness needed for honest reflection. \nThis experience is ideal if you’re feeling ready to release what no longer belongs in the new year\, make sense of what you’ve been carrying\, or simply close the year with intention instead of rushing through it. As you rest in the sound\, you may notice insights rising\, emotions settling\, or a sense of completion forming naturally. \nA gentle way to honor the year behind you and step into the new one with more clarity and ease. \n \nWHAT IS A SOUND BATH? \nA sound bath is a meditative experience where people are “bathed” in sound waves produced by various overtone-emitting instruments\, including singing bowls\, gongs\, chimes\, and more. During a sound bath\, people lie down and listen to resonant sounds\, allowing their brain waves to slow and shift from a more active state to a more relaxed or dreamlike state. The goal of the experience is to invite deep rest and relaxation\, explore self-inquiry and self-discovery\, and help people let go of stress\, anxiety\, or other worries. A sound bath is typically a way of managing anxiety\, soothing the nervous system\, and blocking all the ideas and thoughts out of your consciousness as you connect with your body. \n \nWHAT TO BRING: \nIf possible\, we ask that you please bring your own blanket or bedsheet to cover our cushioned floor mats. No yoga mat needed! We can provide these items for you if you’re unable to bring them. Please dress comfortably\, bring water\, and eat beforehand. \nFor the best experience and to ensure a harmonious start for all participants\, we kindly request your timely arrival. Your punctuality is greatly appreciated. Doors open 7 minutes before event start time. \n \nDETAILS: \n$39 per person \n76 S Sierra Madre St Suite C\, Colorado Springs\, CO 80903\, USA \nTickets available here: https://www.singingbowlsoftherockies.com/event-details/sound-bath-for-integration-healing-closure \n \nMEDICAL NOTICE\, PLEASE READ: \nIf you have any serious medical condition  (i.e. metal in the body brain injury\, recent surgery\, epilepsy\, etc…) make sure you get written permission from your doctor allowing your attendance of a live sound bath. The reason being that some conditions do not take well to the strong vibrations of sound baths. Additionally\, please inform Gigi of your condition before joining us at our sound bath\, thank you!
URL:https://www.essentialwellnesssociety.com/event/sound-bath-for-integration-healing-closure/
CATEGORIES:Events
ATTACH;FMTTYPE=image/jpeg:https://www.essentialwellnesssociety.com/wp-content/uploads/2025/12/Sound-Bath-for-Integration-Closure.jpg
ORGANIZER;CN="Gigi Turner PsyD":MAILTO:contact@singingbowlsoftherockies.com
END:VEVENT
END:VCALENDAR